Workbook

Sheet Claims
A1: Carrier | B1: Policy number | C1: Line | D1: Claim number | E1: Date of loss | F1: Cause | G1: Status | H1: Paid indemnity | I1: Paid medical | J1: Paid expense | K1: Recoveries | L1: Reserve | M1: Incurred
A2: Example Mutual | B2: CA 1000001 | C2: Auto | D2: CA-24-0001 | E2: 2024-02-21 | F2: Intersection collision | G2: Open | H2: 24800 | I2: 9600 | J2: 4200 | L2: 38500 | M2: =H2+I2+J2-K2+L2 -> 77100
A3: Example Mutual | B3: CA 1000001 | C3: Auto | D3: CA-24-0002 | E3: 2024-07-08 | F3: Parked vehicle struck | G3: Closed | H3: 3260 | J3: 290 | M3: =H3+I3+J3-K3+L3 -> 3550

Sheet Five-year summary
A1: Policy year | B1: Earned premium | C1: Claims | D1: Paid | E1: Reserve | F1: Incurred | G1: Loss ratio
A2: 2021 | C2: =COUNTIFS(Claims!E:E,">=2021-01-01",Claims!E:E,"<=2021-12-31") -> 0 | D2: =SUMIFS(Claims!H:H,Claims!E:E,">=2021-01-01",Claims!E:E,"<=2021-12-31")+SUMIFS(Claims!I:I,Claims!E:E,">=2021-01-01",Claims!E:E,"<=2021-12-31")+SUMIFS(Claims!J:J,Claims!E:E,">=2021-01-01",Claims!E:E,"<=2021-12-31") -> 0 | E2: =SUMIFS(Claims!L:L,Claims!E:E,">=2021-01-01",Claims!E:E,"<=2021-12-31") -> 0 | F2: =SUMIFS(Claims!M:M,Claims!E:E,">=2021-01-01",Claims!E:E,"<=2021-12-31") -> 0 | G2: =IF(B2>0,F2/B2,"")
A3: 2022 | C3: =COUNTIFS(Claims!E:E,">=2022-01-01",Claims!E:E,"<=2022-12-31") -> 0 | D3: =SUMIFS(Claims!H:H,Claims!E:E,">=2022-01-01",Claims!E:E,"<=2022-12-31")+SUMIFS(Claims!I:I,Claims!E:E,">=2022-01-01",Claims!E:E,"<=2022-12-31")+SUMIFS(Claims!J:J,Claims!E:E,">=2022-01-01",Claims!E:E,"<=2022-12-31") -> 0 | E3: =SUMIFS(Claims!L:L,Claims!E:E,">=2022-01-01",Claims!E:E,"<=2022-12-31") -> 0 | F3: =SUMIFS(Claims!M:M,Claims!E:E,">=2022-01-01",Claims!E:E,"<=2022-12-31") -> 0 | G3: =IF(B3>0,F3/B3,"")
A4: 2023 | C4: =COUNTIFS(Claims!E:E,">=2023-01-01",Claims!E:E,"<=2023-12-31") -> 0 | D4: =SUMIFS(Claims!H:H,Claims!E:E,">=2023-01-01",Claims!E:E,"<=2023-12-31")+SUMIFS(Claims!I:I,Claims!E:E,">=2023-01-01",Claims!E:E,"<=2023-12-31")+SUMIFS(Claims!J:J,Claims!E:E,">=2023-01-01",Claims!E:E,"<=2023-12-31") -> 0 | E4: =SUMIFS(Claims!L:L,Claims!E:E,">=2023-01-01",Claims!E:E,"<=2023-12-31") -> 0 | F4: =SUMIFS(Claims!M:M,Claims!E:E,">=2023-01-01",Claims!E:E,"<=2023-12-31") -> 0 | G4: =IF(B4>0,F4/B4,"")
A5: 2024 | C5: =COUNTIFS(Claims!E:E,">=2024-01-01",Claims!E:E,"<=2024-12-31") -> 0 | D5: =SUMIFS(Claims!H:H,Claims!E:E,">=2024-01-01",Claims!E:E,"<=2024-12-31")+SUMIFS(Claims!I:I,Claims!E:E,">=2024-01-01",Claims!E:E,"<=2024-12-31")+SUMIFS(Claims!J:J,Claims!E:E,">=2024-01-01",Claims!E:E,"<=2024-12-31") -> 0 | E5: =SUMIFS(Claims!L:L,Claims!E:E,">=2024-01-01",Claims!E:E,"<=2024-12-31") -> 0 | F5: =SUMIFS(Claims!M:M,Claims!E:E,">=2024-01-01",Claims!E:E,"<=2024-12-31") -> 0 | G5: =IF(B5>0,F5/B5,"")
A6: 2025 | C6: =COUNTIFS(Claims!E:E,">=2025-01-01",Claims!E:E,"<=2025-12-31") -> 0 | D6: =SUMIFS(Claims!H:H,Claims!E:E,">=2025-01-01",Claims!E:E,"<=2025-12-31")+SUMIFS(Claims!I:I,Claims!E:E,">=2025-01-01",Claims!E:E,"<=2025-12-31")+SUMIFS(Claims!J:J,Claims!E:E,">=2025-01-01",Claims!E:E,"<=2025-12-31") -> 0 | E6: =SUMIFS(Claims!L:L,Claims!E:E,">=2025-01-01",Claims!E:E,"<=2025-12-31") -> 0 | F6: =SUMIFS(Claims!M:M,Claims!E:E,">=2025-01-01",Claims!E:E,"<=2025-12-31") -> 0 | G6: =IF(B6>0,F6/B6,"")
